BEGIN:VCALENDAR
VERSION:2.0
PRODID:-//Visit Santa Pau - ECPv6.15.20//NONSGML v1.0//EN
CALSCALE:GREGORIAN
METHOD:PUBLISH
X-ORIGINAL-URL:https://visitsantapau.com
X-WR-CALDESC:Esdeveniments per Visit Santa Pau
REFRESH-INTERVAL;VALUE=DURATION:PT1H
X-Robots-Tag:noindex
X-PUBLISHED-TTL:PT1H
BEGIN:VTIMEZONE
TZID:Europe/Helsinki
BEGIN:DAYLIGHT
TZOFFSETFROM:+0200
TZOFFSETTO:+0300
TZNAME:EEST
DTSTART:20220327T010000
END:DAYLIGHT
BEGIN:STANDARD
TZOFFSETFROM:+0300
TZOFFSETTO:+0200
TZNAME:EET
DTSTART:20221030T010000
END:STANDARD
BEGIN:DAYLIGHT
TZOFFSETFROM:+0200
TZOFFSETTO:+0300
TZNAME:EEST
DTSTART:20230326T010000
END:DAYLIGHT
BEGIN:STANDARD
TZOFFSETFROM:+0300
TZOFFSETTO:+0200
TZNAME:EET
DTSTART:20231029T010000
END:STANDARD
BEGIN:DAYLIGHT
TZOFFSETFROM:+0200
TZOFFSETTO:+0300
TZNAME:EEST
DTSTART:20240331T010000
END:DAYLIGHT
BEGIN:STANDARD
TZOFFSETFROM:+0300
TZOFFSETTO:+0200
TZNAME:EET
DTSTART:20241027T010000
END:STANDARD
END:VTIMEZONE
BEGIN:VEVENT
DTSTART;TZID=Europe/Helsinki:20230714T113000
DTEND;TZID=Europe/Helsinki:20230714T123000
DTSTAMP:20260422T211941
CREATED:20230705T093243Z
LAST-MODIFIED:20230706T122344Z
UID:4024-1689334200-1689337800@visitsantapau.com
SUMMARY:VISITE GUIDÉE EN FRANÇAIS À SANTA PAU
DESCRIPTION:Si vous avez envie de visiter et découvrir le village médiéval de Santa Pau\, au cœur de la zone volcanique de la Garrotxa\, nous vous proposons une visite guidée en français pour connaître les rues\, ruelles et histoires entre ses murailles. Avec cette visite\, vous connaîtrez un patrimoine architectonique qui se cache entre volcans\, la forêt de hêtres d’en Jordà et des coulées de lave millénaires. \n\n\n\nLa visite est de caractère historique\, culturel\, patrimonial et gastronomique et permet au visiteur de connaître un des villages médiévaux les mieux préservés en Catalogne ! \n\n\n\nQuand ? Vendredi 14 juillet à 11.30h \n\n\n\nPoint de départ : Office de tourisme de Santa Pau (Av. dels Volcans\, 14) \n\n\n\nRéservations et renseignements : info@visitsantapau.com / +34 972 68 03 49 \n\n\n\nTarif plein : 4€ \n\n\n\n+65 et enfants 5-12 ans: 2\,5€ \n\n\n\nMineurs 5 anys\, touristes logés sur place ou se déplaçant avec le Rumbus: gratuit
URL:https://visitsantapau.com/agenda/visite-guidee-fr/
LOCATION:Oficina de Turisme\, Avda. dels Volcans\, 14\, Santa Pau\, Girona\, 17811\, Espanya
CATEGORIES:cultura
ATTACH;FMTTYPE=image/png:https://visitsantapau.com/wp-content/uploads/2020/11/la-motxilla-de-la-blanca.png
ORGANIZER;CN="Oficina de Turisme":MAILTO:info@visitsantapau.com
END:VEVENT
END:VCALENDAR