BEGIN:VCALENDAR
VERSION:2.0
PRODID:-//Visit Santa Pau - ECPv6.15.20//NONSGML v1.0//EN
CALSCALE:GREGORIAN
METHOD:PUBLISH
X-WR-CALNAME:Visit Santa Pau
X-ORIGINAL-URL:https://visitsantapau.com
X-WR-CALDESC:Esdeveniments per Visit Santa Pau
REFRESH-INTERVAL;VALUE=DURATION:PT1H
X-Robots-Tag:noindex
X-PUBLISHED-TTL:PT1H
BEGIN:VTIMEZONE
TZID:Europe/Helsinki
BEGIN:DAYLIGHT
TZOFFSETFROM:+0200
TZOFFSETTO:+0300
TZNAME:EEST
DTSTART:20220327T010000
END:DAYLIGHT
BEGIN:STANDARD
TZOFFSETFROM:+0300
TZOFFSETTO:+0200
TZNAME:EET
DTSTART:20221030T010000
END:STANDARD
BEGIN:DAYLIGHT
TZOFFSETFROM:+0200
TZOFFSETTO:+0300
TZNAME:EEST
DTSTART:20230326T010000
END:DAYLIGHT
BEGIN:STANDARD
TZOFFSETFROM:+0300
TZOFFSETTO:+0200
TZNAME:EET
DTSTART:20231029T010000
END:STANDARD
BEGIN:DAYLIGHT
TZOFFSETFROM:+0200
TZOFFSETTO:+0300
TZNAME:EEST
DTSTART:20240331T010000
END:DAYLIGHT
BEGIN:STANDARD
TZOFFSETFROM:+0300
TZOFFSETTO:+0200
TZNAME:EET
DTSTART:20241027T010000
END:STANDARD
END:VTIMEZONE
BEGIN:VEVENT
DTSTART;TZID=Europe/Helsinki:20231014T120000
DTEND;TZID=Europe/Helsinki:20231014T130000
DTSTAMP:20260422T193917
CREATED:20230725T110933Z
LAST-MODIFIED:20230926T115353Z
UID:4158-1697284800-1697288400@visitsantapau.com
SUMMARY:Visita guiada a la vila medieval de Santa Pau - Especial Jornades Europees del Patrimoni (gratuït)
DESCRIPTION:Si tens ganes de visitar Santa Pau i\, alhora\, vols que et descobrim tots els racons i raconets i històries passades entre carrerons i muralles medievals\, reserva ja la teva visita! Amb la visita descobriràs el patrimoni arquitectònic que s’amaga entre volcans\, fagedes i colades de lava! \nSanta Pau té molta història! Tanta\, que inclús les pedres parlen… diuen! \nLa visita que us proposem és de caràcter històric\, cultural\, patrimonial i gastronòmic\, i permet al visitant conèixer amb tot detall un dels pobles medievals més ben conservats i amb més encant de Catalunya! \n  \n\nINFORMACIÓ D’INTERÈS PER LES VISITES A SANTA PAU\n\nÉs necessari reservar la visita guiada mitjançant correu electrònic info@visitsantapau.com\, omplint el formulari que trobareu en aquesta pàgina o bé per telèfon a l’Oficina de Turisme de Santa Pau  (+34) 972 680 349\nLes visites tenen com a punt de sortida i arribada l’Oficina de Turisme de Santa Pau\nPreu: visita gratuïta per les Jornades Europees del Patrimoni\n\nConsulta tota la programació del Cultura entre Volcans aquí
URL:https://visitsantapau.com/agenda/visita-guiada-copy-6-copy-copy/
LOCATION:Oficina de Turisme\, Avda. dels Volcans\, 14\, Santa Pau\, Girona\, 17811\, Espanya
CATEGORIES:cultura
ATTACH;FMTTYPE=image/png:https://visitsantapau.com/wp-content/uploads/2020/11/la-motxilla-de-la-blanca.png
ORGANIZER;CN="Oficina de Turisme":MAILTO:info@visitsantapau.com
END:VEVENT
END:VCALENDAR